{"text_format":"3","workbook":"xlsx","n_sheets":3,"sheets":["Лист1","Лист2","Лист3"],"not_rendered":{"external_links":1},"read":"whole","date_system":"1900"}

{"sheet":"Лист1","index":0,"n_rows":24,"n_cols":8,"rows_kept":24}
[]
[]
["№","Ф.И.О. учителя","категория","Общая площадь","Заним площадь","Кол-во часов в нед","Кол-во детей","на 1 реб баланс"]
[1,"Нагуманова Л.А.",1,{"$f":"'[1]зИГАНШИНА Ф.Ю.'!$B$4","v":8076.2},{"$f":"'[1]зИГАНШИНА Ф.Ю.'!$B$5","v":61.4},1,12]
[2,"Савельева Н.П.",1,{"$f":"'[1]зИГАНШИНА Ф.Ю.'!$B$4","v":8076.2},{"$f":"'[1]зИГАНШИНА Ф.Ю.'!$B$5","v":61.4},1,20]
[3,"Блинова И.В.","Б/К",{"$f":"'[1]зИГАНШИНА Ф.Ю.'!$B$4","v":8076.2},{"$f":"'[1]Зямалова Г.Ф.'!$B$5","v":57.3},1,20]
[4,"Помелов А.В.",1,{"$f":"'[1]зИГАНШИНА Ф.Ю.'!$B$4","v":8076.2},{"$f":"'[1]зИГАНШИНА Ф.Ю.'!$B$5","v":61.4},1,15]
[5,"Краснова О.П.13",1,{"$f":"'[1]зИГАНШИНА Ф.Ю.'!$B$4","v":8076.2},{"$f":"'[1]зИГАНШИНА Ф.Ю.'!$B$5","v":61.4},1,30]
[6,"Краснова О.А.",1,{"$f":"'[1]зИГАНШИНА Ф.Ю.'!$B$4","v":8076.2},{"$f":"'[1]Зямалова Г.Ф.'!$B$5","v":57.3},1,15]
[7,"Токмакова А.В.","СЗД",{"$f":"'[1]зИГАНШИНА Ф.Ю.'!$B$4","v":8076.2},{"$f":"'[1]зИГАНШИНА Ф.Ю.'!$B$5","v":61.4},1,18]
[8,"Клявлина А.А.","Б/К",{"$f":"'[1]зИГАНШИНА Ф.Ю.'!$B$4","v":8076.2},{"$f":"'[1]зИГАНШИНА Ф.Ю.'!$B$5","v":61.4},1,20]
[9,"Сазанова Н.Е.",1,{"$f":"'[1]зИГАНШИНА Ф.Ю.'!$B$4","v":8076.2},{"$f":"'[1]зИГАНШИНА Ф.Ю.'!$B$5","v":61.4},1,14]
[10,"Сабирзянова Г.Г.",1,{"$f":"'[1]зИГАНШИНА Ф.Ю.'!$B$4","v":8076.2},{"$f":"'[1]Зямалова Г.Ф.'!$B$5","v":57.3},1,15]
[11,"Кандрова Г.Г.",1,{"$f":"'[1]зИГАНШИНА Ф.Ю.'!$B$4","v":8076.2},{"$f":"'[1]зИГАНШИНА Ф.Ю.'!$B$5","v":61.4},1,15]
[12,"Ярхунина М.Н.",1,{"$f":"'[1]зИГАНШИНА Ф.Ю.'!$B$4","v":8076.2},{"$f":"'[1]зИГАНШИНА Ф.Ю.'!$B$5","v":61.4},1,15]
[13,"Алексеева Г.В",1,{"$f":"'[1]зИГАНШИНА Ф.Ю.'!$B$4","v":8076.2},{"$f":"'[1]Зямалова Г.Ф.'!$B$5","v":57.3},1,30]
[14,"Зиганшина Ф.Ю.",1,{"$f":"'[1]зИГАНШИНА Ф.Ю.'!$B$4","v":8076.2},{"$f":"'[1]зИГАНШИНА Ф.Ю.'!$B$5","v":61.4},1,30]
[15,"Христофорова Е.Н.",1,{"$f":"'[1]зИГАНШИНА Ф.Ю.'!$B$4","v":8076.2},{"$f":"'[1]Зямалова Г.Ф.'!$B$5","v":57.3},1,15]
[16,"Яковлева С.Н.",1,{"$f":"'[1]зИГАНШИНА Ф.Ю.'!$B$4","v":8076.2},{"$f":"'[1]зИГАНШИНА Ф.Ю.'!$B$5","v":61.4},1,15]
[17,"Юлдашева Р.Ш.","Б/К",{"$f":"'[1]зИГАНШИНА Ф.Ю.'!$B$4","v":8076.2},{"$f":"'[1]Зямалова Г.Ф.'!$B$5","v":57.3},1,15]
[18,"Колесникова Е.А.",1,{"$f":"$D$20","v":8076.2},"61.4",1,15]
[19,"Сатдарова Д.Г.",1,{"$f":"$D$21","v":8076.2},{"$f":"$E$21","v":"61.4"},1,15]
[20,"Гилязева Л.Н.",1,8076.2,"61.4",1,15]
[21,"Амиров И.Р.",1,8076.2,"61.4",1,15]

{"sheet":"Лист2","index":1,"n_rows":0,"n_cols":0,"rows_kept":0}

{"sheet":"Лист3","index":2,"n_rows":0,"n_cols":0,"rows_kept":0}